BEGIN:VCALENDAR
VERSION:2.0
PRODID:-//Sacred Fire Farms - ECPv6.15.16//NONSGML v1.0//EN
CALSCALE:GREGORIAN
METHOD:PUBLISH
X-WR-CALNAME:Sacred Fire Farms
X-ORIGINAL-URL:https://sacredfireliving.com
X-WR-CALDESC:Events for Sacred Fire Farms
REFRESH-INTERVAL;VALUE=DURATION:PT1H
X-Robots-Tag:noindex
X-PUBLISHED-TTL:PT1H
BEGIN:VTIMEZONE
TZID:America/Chicago
BEGIN:DAYLIGHT
TZOFFSETFROM:-0600
TZOFFSETTO:-0500
TZNAME:CDT
DTSTART:20250309T080000
END:DAYLIGHT
BEGIN:STANDARD
TZOFFSETFROM:-0500
TZOFFSETTO:-0600
TZNAME:CST
DTSTART:20251102T070000
END:STANDARD
BEGIN:DAYLIGHT
TZOFFSETFROM:-0600
TZOFFSETTO:-0500
TZNAME:CDT
DTSTART:20260308T080000
END:DAYLIGHT
BEGIN:STANDARD
TZOFFSETFROM:-0500
TZOFFSETTO:-0600
TZNAME:CST
DTSTART:20261101T070000
END:STANDARD
BEGIN:DAYLIGHT
TZOFFSETFROM:-0600
TZOFFSETTO:-0500
TZNAME:CDT
DTSTART:20270314T080000
END:DAYLIGHT
BEGIN:STANDARD
TZOFFSETFROM:-0500
TZOFFSETTO:-0600
TZNAME:CST
DTSTART:20271107T070000
END:STANDARD
END:VTIMEZONE
BEGIN:VEVENT
DTSTART;TZID=America/Chicago:20260420T130000
DTEND;TZID=America/Chicago:20260517T150000
DTSTAMP:20260420T121556
CREATED:20260420T015140Z
LAST-MODIFIED:20260420T015140Z
UID:27063-1776690000-1779030000@sacredfireliving.com
SUMMARY:Bee Venom Use in Chronic Conditions
DESCRIPTION: The use of bee venom for disease goes as far back as 2000 BC. With current improvements \,the venom from the bee can be harvested without the sting and applied topically as a cream. In this class attendees will receive a sample of the cream to take home.\n0
URL:https://sacredfireliving.com/event/bee-venom-use-in-chronic-conditions/
ORGANIZER;CN="Nancy Herold":MAILTO:info@sacredfireliving.com
END:VEVENT
BEGIN:VEVENT
DTSTART;TZID=America/Chicago:20260503T130000
DTEND;TZID=America/Chicago:20260503T143000
DTSTAMP:20260420T121556
CREATED:20260420T011402Z
LAST-MODIFIED:20260420T011931Z
UID:27057-1777813200-1777818600@sacredfireliving.com
SUMMARY:Plant Walk at Sacred Fire Farms
DESCRIPTION:This is a great time of year to walk the farm before the heat gets excessive and the biggest variety of plants are readily visible. We will go down a path that is even and well shaded as we share information on what we cultivate in our remedy garden as well as what we gather and best practices for wildcrafting (gathering plants in a sustainable way
URL:https://sacredfireliving.com/event/plant-walk-at-sacred-fire-farms-3/
ORGANIZER;CN="Nancy Herold":MAILTO:info@sacredfireliving.com
END:VEVENT
BEGIN:VEVENT
DTSTART;TZID=America/Chicago:20260530T100000
DTEND;TZID=America/Chicago:20260530T160000
DTSTAMP:20260420T121556
CREATED:20260203T215423Z
LAST-MODIFIED:20260203T221344Z
UID:26937-1780135200-1780156800@sacredfireliving.com
SUMMARY:The Elementary Herbalist - Day 1: Herbal Fundamentals with a Focus on Immunity
DESCRIPTION:Our Flagship course “The Elementary Herbalist” resumes May 30 2026. We limit this to 8 people in order to give individualized attention to each attendee. This course offers hands on experience with 3 “make and take” remedies to give students a true hands-on experience. We offer our own manual with dosing resources.  A farm to table lunch is served as part of the course.
URL:https://sacredfireliving.com/event/the-elementary-herbalist-day-1-herbal-fundamentals-with-a-focus-on-immunity/
LOCATION:Sacred Fire Farms\, 12804 State Hwy W\, Bourbon\, MO\, 65441\, United States
CATEGORIES:at The Farm,Herbal Class
ORGANIZER;CN="Nancy Herold":MAILTO:info@sacredfireliving.com
END:VEVENT
END:VCALENDAR